BEGIN:VCALENDAR
VERSION:2.0
PRODID:-//The Woman&#039;s Club of the Midlands - ECPv6.15.20//NONSGML v1.0//EN
CALSCALE:GREGORIAN
METHOD:PUBLISH
X-WR-CALNAME:The Woman&#039;s Club of the Midlands
X-ORIGINAL-URL:https://gfwcwcom.org
X-WR-CALDESC:Events for The Woman&#039;s Club of the Midlands
REFRESH-INTERVAL;VALUE=DURATION:PT1H
X-Robots-Tag:noindex
X-PUBLISHED-TTL:PT1H
BEGIN:VTIMEZONE
TZID:America/New_York
BEGIN:DAYLIGHT
TZOFFSETFROM:-0500
TZOFFSETTO:-0400
TZNAME:EDT
DTSTART:20240310T070000
END:DAYLIGHT
BEGIN:STANDARD
TZOFFSETFROM:-0400
TZOFFSETTO:-0500
TZNAME:EST
DTSTART:20241103T060000
END:STANDARD
BEGIN:DAYLIGHT
TZOFFSETFROM:-0500
TZOFFSETTO:-0400
TZNAME:EDT
DTSTART:20250309T070000
END:DAYLIGHT
BEGIN:STANDARD
TZOFFSETFROM:-0400
TZOFFSETTO:-0500
TZNAME:EST
DTSTART:20251102T060000
END:STANDARD
BEGIN:DAYLIGHT
TZOFFSETFROM:-0500
TZOFFSETTO:-0400
TZNAME:EDT
DTSTART:20260308T070000
END:DAYLIGHT
BEGIN:STANDARD
TZOFFSETFROM:-0400
TZOFFSETTO:-0500
TZNAME:EST
DTSTART:20261101T060000
END:STANDARD
BEGIN:DAYLIGHT
TZOFFSETFROM:-0500
TZOFFSETTO:-0400
TZNAME:EDT
DTSTART:20270314T070000
END:DAYLIGHT
BEGIN:STANDARD
TZOFFSETFROM:-0400
TZOFFSETTO:-0500
TZNAME:EST
DTSTART:20271107T060000
END:STANDARD
END:VTIMEZONE
BEGIN:VEVENT
DTSTART;TZID=America/New_York:20260514T183000
DTEND;TZID=America/New_York:20260514T203000
DTSTAMP:20260423T175220
CREATED:20260105T001734Z
LAST-MODIFIED:20260105T001850Z
UID:2172-1778783400-1778790600@gfwcwcom.org
SUMMARY:WCOM May Club Meeting
DESCRIPTION:Planning Meeting for next club year
URL:https://gfwcwcom.org/event/wcom-may-club-meeting/
LOCATION:West Columbia Community Center\, 754 "B" Avenue\, West Columbia\, SC\, United States
END:VEVENT
BEGIN:VEVENT
DTSTART;VALUE=DATE:20260417
DTEND;VALUE=DATE:20260420
DTSTAMP:20260423T175220
CREATED:20251208T202204Z
LAST-MODIFIED:20251208T202204Z
UID:2123-1776384000-1776643199@gfwcwcom.org
SUMMARY:GFWC SC State Convention
DESCRIPTION:Information is in the December Clubwoman magazine. https://gfwc-sc.org/
URL:https://gfwcwcom.org/event/gfwc-sc-state-convention/
LOCATION:Marina Inn at Grande Dunes\, 8121 Amalfi Pl\, Myrtle Beach\, SC\, 29572\, United States
END:VEVENT
BEGIN:VEVENT
DTSTART;TZID=America/New_York:20260409T183000
DTEND;TZID=America/New_York:20260409T203000
DTSTAMP:20260423T175220
CREATED:20260105T001040Z
LAST-MODIFIED:20260105T002036Z
UID:2170-1775759400-1775766600@gfwcwcom.org
SUMMARY:WCOM April Club Meeting
DESCRIPTION:Installation of New WCOM Officers
URL:https://gfwcwcom.org/event/wcom-april-club-meeting/
LOCATION:West Columbia Community Center\, 754 "B" Avenue\, West Columbia\, SC\, United States
END:VEVENT
BEGIN:VEVENT
DTSTART;TZID=America/New_York:20260312T183000
DTEND;TZID=America/New_York:20260312T203000
DTSTAMP:20260423T175220
CREATED:20260105T000810Z
LAST-MODIFIED:20260105T000921Z
UID:2167-1773340200-1773347400@gfwcwcom.org
SUMMARY:WCOM March Club Meeting
DESCRIPTION:Candidates for WCOM Executive Committee Offices will be presented and voted on.
URL:https://gfwcwcom.org/event/wcom-march-club-meeting/
LOCATION:West Columbia Community Center\, 754 "B" Avenue\, West Columbia\, SC\, United States
END:VEVENT
BEGIN:VEVENT
DTSTART;TZID=America/New_York:20260221T083000
DTEND;TZID=America/New_York:20260221T150000
DTSTAMP:20260423T175220
CREATED:20251208T202844Z
LAST-MODIFIED:20251208T202844Z
UID:2126-1771662600-1771686000@gfwcwcom.org
SUMMARY:GFWC-SC LEADS
DESCRIPTION:Registration info is in the December Clubwoman magazine. https://gfwc-sc.org/ Application/fee is due by February 7\, 2026. If you are new to GFWC\, or have never been to a LEADS session\, it is a very helpful tool in understanding our organization and gaining skills for leadership within it. Even if you are a past LEADS Graduate\, you are welcome to take it again as often as you’d like! \n 
URL:https://gfwcwcom.org/event/gfwc-sc-leads/
LOCATION:The Woman’s Club of Cayce Clubhouse\, 701 Oakland Avenue\, Cayce\, SC\, 29033\, United States
END:VEVENT
BEGIN:VEVENT
DTSTART;VALUE=DATE:20260213
DTEND;VALUE=DATE:20260214
DTSTAMP:20260423T175220
CREATED:20260105T002345Z
LAST-MODIFIED:20260105T002345Z
UID:2174-1770940800-1771027199@gfwcwcom.org
SUMMARY:Glenforest Valentine's Dance
DESCRIPTION:Times for set-up and actual party will be verified soon.
URL:https://gfwcwcom.org/event/glenforest-valentines-dance/
LOCATION:Glenforest School\, 101 Harbor Drive\, West Columbia\, SC\, 29169\, United States
END:VEVENT
BEGIN:VEVENT
DTSTART;TZID=America/New_York:20260212T183000
DTEND;TZID=America/New_York:20260212T203000
DTSTAMP:20260423T175220
CREATED:20260105T000707Z
LAST-MODIFIED:20260105T000707Z
UID:2165-1770921000-1770928200@gfwcwcom.org
SUMMARY:WCOM February Club Meeting
DESCRIPTION:
URL:https://gfwcwcom.org/event/wcom-february-club-meeting/
LOCATION:West Columbia Community Center\, 754 "B" Avenue\, West Columbia\, SC\, United States
END:VEVENT
BEGIN:VEVENT
DTSTART;TZID=America/New_York:20260117T091500
DTEND;TZID=America/New_York:20260117T130000
DTSTAMP:20260423T175220
CREATED:20251208T201510Z
LAST-MODIFIED:20251208T201510Z
UID:2121-1768641300-1768654800@gfwcwcom.org
SUMMARY:GFWC-SC Winter Board (Zoom)
DESCRIPTION:Registration information for the ZOOM meeting of the GFWC-SC Winter Board can be found in the December Clubwoman Magazine. See https://gfwc-sc.org/ for more details.
URL:https://gfwcwcom.org/event/gfwc-sc-winter-board-zoom/
LOCATION:SC
END:VEVENT
BEGIN:VEVENT
DTSTART;TZID=America/New_York:20260108T183000
DTEND;TZID=America/New_York:20260108T203000
DTSTAMP:20260423T175220
CREATED:20260105T000311Z
LAST-MODIFIED:20260105T002157Z
UID:2160-1767897000-1767904200@gfwcwcom.org
SUMMARY:WCOM January Club Meeting
DESCRIPTION:
URL:https://gfwcwcom.org/event/wcom-january-club-meeting/
LOCATION:West Columbia Community Center\, 754 "B" Avenue\, West Columbia\, SC\, United States
END:VEVENT
BEGIN:VEVENT
DTSTART;TZID=America/New_York:20260105T181500
DTEND;TZID=America/New_York:20260105T193000
DTSTAMP:20260423T175220
CREATED:20260105T000604Z
LAST-MODIFIED:20260105T000604Z
UID:2162-1767636900-1767641400@gfwcwcom.org
SUMMARY:WCOM Executive Committee Meeting
DESCRIPTION:
URL:https://gfwcwcom.org/event/wcom-executive-committee-meeting/
LOCATION:Zesto\, 504 12th St.\, West Columbia\, SC\, 29169\, United States
END:VEVENT
BEGIN:VEVENT
DTSTART;TZID=America/New_York:20260103T123000
DTEND;TZID=America/New_York:20260103T143000
DTSTAMP:20260423T175220
CREATED:20251212T221400Z
LAST-MODIFIED:20251212T221400Z
UID:2132-1767443400-1767450600@gfwcwcom.org
SUMMARY:"UN-Decorating" at The Big Red Barn
DESCRIPTION:Join us in this service project as we help this wonderful organization take down their Christmas decorations in preparation for their Warrior PATHH Programs to begin again.
URL:https://gfwcwcom.org/event/un-decorating-at-the-big-red-barn/
LOCATION:Big Red Barn\, 830 Lorick Rd.\, Blythewood\, SC\, United States
END:VEVENT
BEGIN:VEVENT
DTSTART;TZID=America/New_York:20251224T093000
DTEND;TZID=America/New_York:20251224T113000
DTSTAMP:20260423T175220
CREATED:20251209T152953Z
LAST-MODIFIED:20251209T153026Z
UID:2128-1766568600-1766575800@gfwcwcom.org
SUMMARY:Lexington Extended Care Christmas Eve Party
DESCRIPTION:Join the WCOM elves to help with the Christmas Eve party for the residents of Lexington Extended Care. All help is appreciated!
URL:https://gfwcwcom.org/event/lexington-extended-care-christmas-party/
LOCATION:Lexington Extended Care\, 815 Old Cherokee Rd.\, Lexington\, SC\, 29072\, United States
END:VEVENT
BEGIN:VEVENT
DTSTART;TZID=America/New_York:20251213T120000
DTEND;TZID=America/New_York:20251213T140000
DTSTAMP:20260423T175220
CREATED:20251208T200803Z
LAST-MODIFIED:20251208T200841Z
UID:2119-1765627200-1765634400@gfwcwcom.org
SUMMARY:Wreaths Across America
DESCRIPTION:Be at Fort Jackson National Cemetery at (or before) 12:00 noon for a short service\, followed by participation in laying of the wreaths on the graves of service men and women who served our country. You are encouraged to bring friends and families for this meaningful annual event. Free of charge. \n 
URL:https://gfwcwcom.org/event/wreaths-across-america/
LOCATION:Fort Jackson National Cemetery\, 4170 Percival Rd.\, Columbia\, SC\, 29229\, United States
END:VEVENT
BEGIN:VEVENT
DTSTART;TZID=America/New_York:20251211T180000
DTEND;TZID=America/New_York:20251211T200000
DTSTAMP:20260423T175220
CREATED:20251208T195920Z
LAST-MODIFIED:20251208T195920Z
UID:2114-1765476000-1765483200@gfwcwcom.org
SUMMARY:December Christmas Social
DESCRIPTION:Club members\, join us for a brief business meeting\, followed by holiday fellowship! Feel free to bring a guest. We will have festive food (bring an appetizer or sweet) and a fun White Elephant gift exchange (each person bring a gift between $10-$20).
URL:https://gfwcwcom.org/event/december-christmas-social/
LOCATION:GFWC-SC HQ (Sims-Stackhouse Mansion)\, 1511 Laurel St\, Columbia\, SC\, 29201\, United States
END:VEVENT
BEGIN:VEVENT
DTSTART;TZID=America/New_York:20250601T080000
DTEND;TZID=America/New_York:20250831T170000
DTSTAMP:20260423T175220
CREATED:20250604T181722Z
LAST-MODIFIED:20250604T181830Z
UID:1941-1748764800-1756659600@gfwcwcom.org
SUMMARY:Dance The Summer Away with the WCOM!
DESCRIPTION:
URL:https://gfwcwcom.org/event/dance-the-summer-away-with-the-wcom/
LOCATION:SC
END:VEVENT
BEGIN:VEVENT
DTSTART;TZID=America/New_York:20250520T123000
DTEND;TZID=America/New_York:20250520T133000
DTSTAMP:20260423T175220
CREATED:20250428T190416Z
LAST-MODIFIED:20250428T190416Z
UID:1887-1747744200-1747747800@gfwcwcom.org
SUMMARY:USO Project
DESCRIPTION:
URL:https://gfwcwcom.org/event/uso-project/
LOCATION:Columbia Metropolitan Airport\, 3250 Airport Blvd\, West Columbia\, SC\, 29170\, United States
END:VEVENT
BEGIN:VEVENT
DTSTART;TZID=America/New_York:20250509T180000
DTEND;TZID=America/New_York:20250509T190000
DTSTAMP:20260423T175220
CREATED:20250428T185733Z
LAST-MODIFIED:20250428T185733Z
UID:1884-1746813600-1746817200@gfwcwcom.org
SUMMARY:Fisher House Project
DESCRIPTION:
URL:https://gfwcwcom.org/event/fisher-house-project/
LOCATION:Fisher House\, 6439 Garners Ferry Rd\, Bldg 32\, Columbia\, SC\, 29209\, United States
END:VEVENT
BEGIN:VEVENT
DTSTART;TZID=America/New_York:20250508T183000
DTEND;TZID=America/New_York:20250508T203000
DTSTAMP:20260423T175220
CREATED:20241114T162822Z
LAST-MODIFIED:20241114T162822Z
UID:1472-1746729000-1746736200@gfwcwcom.org
SUMMARY:CLUB MEETING
DESCRIPTION:
URL:https://gfwcwcom.org/event/club-meeting-3/
LOCATION:West Columbia Community Center\, 754 "B" Avenue\, West Columbia\, SC\, United States
END:VEVENT
BEGIN:VEVENT
DTSTART;TZID=America/New_York:20250430T160000
DTEND;TZID=America/New_York:20250430T190000
DTSTAMP:20260423T175220
CREATED:20250326T195101Z
LAST-MODIFIED:20250326T195101Z
UID:1815-1746028800-1746039600@gfwcwcom.org
SUMMARY:WCOM and Gifts Galore & So Much More Spring Shopping Fundraiser!
DESCRIPTION:Join us at Gifts Galore & So Much More from 4:00 pm to 7:00 pm to shop for yourself\, or upcoming birthdays\, graduations\, bridal or baby showers\, and weddings. If you need to come earlier in the day\, just mention the Woman’s Club of the Midlands at checkout. It won’t cost you anything more\, but this fabulous owner will donate a portion of her proceeds to out club to help us continue our community service projects. Come on out!
URL:https://gfwcwcom.org/event/wcom-and-gifts-galore-so-much-more-spring-shopping-fundraiser/
LOCATION:Gifts Galore & So Much More\, 170 Corley Mill Rd\, Lexington\, SC\, United States
END:VEVENT
BEGIN:VEVENT
DTSTART;VALUE=DATE:20250425
DTEND;VALUE=DATE:20250428
DTSTAMP:20260423T175220
CREATED:20250131T192144Z
LAST-MODIFIED:20250131T192144Z
UID:1625-1745539200-1745798399@gfwcwcom.org
SUMMARY:GFWC-SC CONVENTION in ROCK HILL\, SC
DESCRIPTION:
URL:https://gfwcwcom.org/event/gfwc-sc-convention-in-rock-hill-sc/
LOCATION:SC
END:VEVENT
BEGIN:VEVENT
DTSTART;TZID=America/New_York:20250410T183000
DTEND;TZID=America/New_York:20250410T203000
DTSTAMP:20260423T175220
CREATED:20241114T162728Z
LAST-MODIFIED:20241114T162728Z
UID:1470-1744309800-1744317000@gfwcwcom.org
SUMMARY:WCOM CLUB MEETING
DESCRIPTION:
URL:https://gfwcwcom.org/event/wcom-club-meeting-5/
LOCATION:West Columbia Community Center\, 754 "B" Avenue\, West Columbia\, SC\, United States
END:VEVENT
BEGIN:VEVENT
DTSTART;TZID=America/New_York:20250403T180000
DTEND;TZID=America/New_York:20250403T193000
DTSTAMP:20260423T175220
CREATED:20250326T195413Z
LAST-MODIFIED:20250326T195413Z
UID:1817-1743703200-1743708600@gfwcwcom.org
SUMMARY:Executive Committee Meeting
DESCRIPTION:
URL:https://gfwcwcom.org/event/executive-committee-meeting/
LOCATION:Linda W’s home\, Columbia\, SC\, 29201-1851\, United States
END:VEVENT
BEGIN:VEVENT
DTSTART;TZID=America/New_York:20250402T173000
DTEND;TZID=America/New_York:20250402T190000
DTSTAMP:20260423T175220
CREATED:20250326T195955Z
LAST-MODIFIED:20250326T203603Z
UID:1820-1743615000-1743620400@gfwcwcom.org
SUMMARY:WCOM Milkweed Seed Packing Project with SCWF
DESCRIPTION:
URL:https://gfwcwcom.org/event/wcom-seed-packing-project-with-scwf/
LOCATION:SC Wildlife Federation\, 1519 Richland St.\, Columbia\, SC\, 29201\, United States
END:VEVENT
BEGIN:VEVENT
DTSTART;TZID=America/New_York:20250313T183000
DTEND;TZID=America/New_York:20250313T203000
DTSTAMP:20260423T175220
CREATED:20241114T162622Z
LAST-MODIFIED:20241114T162622Z
UID:1468-1741890600-1741897800@gfwcwcom.org
SUMMARY:WCOM CLUB MEETING
DESCRIPTION:
URL:https://gfwcwcom.org/event/wcom-club-meeting-4/
LOCATION:West Columbia Community Center\, 754 "B" Avenue\, West Columbia\, SC\, United States
END:VEVENT
BEGIN:VEVENT
DTSTART;TZID=America/New_York:20250310T180000
DTEND;TZID=America/New_York:20250310T190000
DTSTAMP:20260423T175220
CREATED:20250131T193104Z
LAST-MODIFIED:20250131T193332Z
UID:1630-1741629600-1741633200@gfwcwcom.org
SUMMARY:Civic Engagement & Outreach Committee Meeting
DESCRIPTION:Downstairs in Conference Room 1
URL:https://gfwcwcom.org/event/civic-engagement-outreach-committee-meeting/
LOCATION:Lexington Main Library\, 5440 Augusta Rd.\, Lexington\, SC\, 29072\, United States
END:VEVENT
BEGIN:VEVENT
DTSTART;TZID=America/New_York:20250213T183000
DTEND;TZID=America/New_York:20250213T203000
DTSTAMP:20260423T175220
CREATED:20241114T162525Z
LAST-MODIFIED:20241114T162525Z
UID:1466-1739471400-1739478600@gfwcwcom.org
SUMMARY:CLUB MEETING
DESCRIPTION:
URL:https://gfwcwcom.org/event/club-meeting-2/
LOCATION:West Columbia Community Center\, 754 "B" Avenue\, West Columbia\, SC\, United States
END:VEVENT
BEGIN:VEVENT
DTSTART;VALUE=DATE:20250208
DTEND;VALUE=DATE:20250209
DTSTAMP:20260423T175220
CREATED:20250131T192451Z
LAST-MODIFIED:20250131T192451Z
UID:1627-1738972800-1739059199@gfwcwcom.org
SUMMARY:LEADS
DESCRIPTION:
URL:https://gfwcwcom.org/event/leads/
LOCATION:The Woman’s Club of Cayce Clubhouse\, 701 Oakland Avenue\, Cayce\, SC\, 29033\, United States
END:VEVENT
BEGIN:VEVENT
DTSTART;VALUE=DATE:20250207
DTEND;VALUE=DATE:20250208
DTSTAMP:20260423T175220
CREATED:20240920T211615Z
LAST-MODIFIED:20250131T191802Z
UID:799-1738886400-1738972799@gfwcwcom.org
SUMMARY:GLENFOREST VALENTINE'S DANCE
DESCRIPTION:
URL:https://gfwcwcom.org/event/glen-forest-valentines-dance/
LOCATION:Glenforest School\, 101 Harbor Drive\, West Columbia\, SC\, 29169\, United States
END:VEVENT
BEGIN:VEVENT
DTSTART;TZID=America/New_York:20250206T180000
DTEND;TZID=America/New_York:20250206T193000
DTSTAMP:20260423T175220
CREATED:20250131T191534Z
LAST-MODIFIED:20250131T191534Z
UID:1620-1738864800-1738870200@gfwcwcom.org
SUMMARY:EC Committee Meeting
DESCRIPTION:
URL:https://gfwcwcom.org/event/ec-committee-meeting/
LOCATION:Linda W’s home\, Columbia\, SC\, 29201-1851\, United States
END:VEVENT
BEGIN:VEVENT
DTSTART;TZID=America/New_York:20250201T110000
DTEND;TZID=America/New_York:20250201T130000
DTSTAMP:20260423T175220
CREATED:20250131T190006Z
LAST-MODIFIED:20250131T190444Z
UID:1613-1738407600-1738414800@gfwcwcom.org
SUMMARY:Free Medical Clinic Project - Preparing Bags
DESCRIPTION:
URL:https://gfwcwcom.org/event/free-medical-clinic-project-preparing-bags/
LOCATION:212 Oak Drive\, Cayce SC\, 212 Oak Lane\, Cayce\, SC\, 29033\, United States
END:VEVENT
END:VCALENDAR