BEGIN:VCALENDAR
VERSION:2.0
PRODID:-//The Woman&#039;s Club of the Midlands - ECPv6.15.20//NONSGML v1.0//EN
CALSCALE:GREGORIAN
METHOD:PUBLISH
X-ORIGINAL-URL:https://gfwcwcom.org
X-WR-CALDESC:Events for The Woman&#039;s Club of the Midlands
REFRESH-INTERVAL;VALUE=DURATION:PT1H
X-Robots-Tag:noindex
X-PUBLISHED-TTL:PT1H
BEGIN:VTIMEZONE
TZID:America/New_York
BEGIN:DAYLIGHT
TZOFFSETFROM:-0500
TZOFFSETTO:-0400
TZNAME:EDT
DTSTART:20230312T070000
END:DAYLIGHT
BEGIN:STANDARD
TZOFFSETFROM:-0400
TZOFFSETTO:-0500
TZNAME:EST
DTSTART:20231105T060000
END:STANDARD
BEGIN:DAYLIGHT
TZOFFSETFROM:-0500
TZOFFSETTO:-0400
TZNAME:EDT
DTSTART:20240310T070000
END:DAYLIGHT
BEGIN:STANDARD
TZOFFSETFROM:-0400
TZOFFSETTO:-0500
TZNAME:EST
DTSTART:20241103T060000
END:STANDARD
BEGIN:DAYLIGHT
TZOFFSETFROM:-0500
TZOFFSETTO:-0400
TZNAME:EDT
DTSTART:20250309T070000
END:DAYLIGHT
BEGIN:STANDARD
TZOFFSETFROM:-0400
TZOFFSETTO:-0500
TZNAME:EST
DTSTART:20251102T060000
END:STANDARD
BEGIN:DAYLIGHT
TZOFFSETFROM:-0500
TZOFFSETTO:-0400
TZNAME:EDT
DTSTART:20260308T070000
END:DAYLIGHT
BEGIN:STANDARD
TZOFFSETFROM:-0400
TZOFFSETTO:-0500
TZNAME:EST
DTSTART:20261101T060000
END:STANDARD
END:VTIMEZONE
BEGIN:VEVENT
DTSTART;TZID=America/New_York:20250109T183000
DTEND;TZID=America/New_York:20250109T203000
DTSTAMP:20260423T162545
CREATED:20241114T162006Z
LAST-MODIFIED:20241114T162006Z
UID:1464-1736447400-1736454600@gfwcwcom.org
SUMMARY:WCOM CLUB MEETING
DESCRIPTION:
URL:https://gfwcwcom.org/event/wcom-club-meeting-3/
LOCATION:West Columbia Community Center\, 754 "B" Avenue\, West Columbia\, SC\, United States
END:VEVENT
BEGIN:VEVENT
DTSTART;TZID=America/New_York:20241214T120000
DTEND;TZID=America/New_York:20241214T140000
DTSTAMP:20260423T162545
CREATED:20241122T170821Z
LAST-MODIFIED:20241122T171013Z
UID:1540-1734177600-1734184800@gfwcwcom.org
SUMMARY:WREATHS ACROSS AMERICA DAY
DESCRIPTION:
URL:https://gfwcwcom.org/event/wreaths-across-america-day/
LOCATION:Fort Jackson National Cemetery\, 4170 Percival Rd.\, Columbia\, SC\, 29229\, United States
END:VEVENT
BEGIN:VEVENT
DTSTART;TZID=America/New_York:20241212T183000
DTEND;TZID=America/New_York:20241212T203000
DTSTAMP:20260423T162545
CREATED:20241114T161709Z
LAST-MODIFIED:20241114T161709Z
UID:1460-1734028200-1734035400@gfwcwcom.org
SUMMARY:WCOM CLUB MEETING - Christmas Social
DESCRIPTION:
URL:https://gfwcwcom.org/event/wcom-club-meeting-christmas-social/
LOCATION:West Columbia Community Center\, 754 "B" Avenue\, West Columbia\, SC\, United States
END:VEVENT
BEGIN:VEVENT
DTSTART;TZID=America/New_York:20241120T130000
DTEND;TZID=America/New_York:20241120T140000
DTSTAMP:20260423T162545
CREATED:20241114T161503Z
LAST-MODIFIED:20241114T161503Z
UID:1457-1732107600-1732111200@gfwcwcom.org
SUMMARY:WCOM Project: Donation Drop-Off for Hygiene Closet at Swansea High School
DESCRIPTION:
URL:https://gfwcwcom.org/event/wcom-project-donation-drop-off-for-hygiene-closet-at-swansea-high-school/
LOCATION:Swansea High School\, 500 East 1st St.\, Swansea\, SC\, United States
END:VEVENT
BEGIN:VEVENT
DTSTART;TZID=America/New_York:20241114T183000
DTEND;TZID=America/New_York:20241114T203000
DTSTAMP:20260423T162545
CREATED:20241114T160920Z
LAST-MODIFIED:20241114T160920Z
UID:1455-1731609000-1731616200@gfwcwcom.org
SUMMARY:WCOM CLUB MEETING
DESCRIPTION:
URL:https://gfwcwcom.org/event/wcom-club-meeting-2/
LOCATION:West Columbia Community Center\, 754 "B" Avenue\, West Columbia\, SC\, United States
END:VEVENT
BEGIN:VEVENT
DTSTART;TZID=America/New_York:20241024T160000
DTEND;TZID=America/New_York:20241024T190000
DTSTAMP:20260423T162545
CREATED:20240920T211420Z
LAST-MODIFIED:20240920T211420Z
UID:797-1729785600-1729796400@gfwcwcom.org
SUMMARY:WCOM & Gifts Galore FUNDRAISER
DESCRIPTION:Gifts Galore will donate a portion of their proceeds to the WCOM! \n*You may shop earlier in the day\, just mention the Woman’s Club of the Midlands at check-out*
URL:https://gfwcwcom.org/event/wcom-gifts-galore-fundraiser/
LOCATION:Gifts Galore & So Much More\, 170 Corley Mill Rd\, Lexington\, SC\, United States
END:VEVENT
BEGIN:VEVENT
DTSTART;TZID=America/New_York:20241010T183000
DTEND;TZID=America/New_York:20241010T200000
DTSTAMP:20260423T162545
CREATED:20240920T210231Z
LAST-MODIFIED:20240920T210231Z
UID:792-1728585000-1728590400@gfwcwcom.org
SUMMARY:WCOM Club Meeting
DESCRIPTION:
URL:https://gfwcwcom.org/event/wcom-club-meeting/
LOCATION:West Columbia Community Center\, 754 "B" Avenue\, West Columbia\, SC\, United States
END:VEVENT
BEGIN:VEVENT
DTSTART;VALUE=DATE:20240928
DTEND;VALUE=DATE:20240929
DTSTAMP:20260423T162545
CREATED:20240911T163551Z
LAST-MODIFIED:20240911T163551Z
UID:589-1727481600-1727567999@gfwcwcom.org
SUMMARY:GFWC National Day of Service
DESCRIPTION:
URL:https://gfwcwcom.org/event/gfwc-national-day-of-service/
LOCATION:SC
END:VEVENT
BEGIN:VEVENT
DTSTART;TZID=America/New_York:20240912T183000
DTEND;TZID=America/New_York:20240912T200000
DTSTAMP:20260423T162545
CREATED:20240911T162939Z
LAST-MODIFIED:20240911T162939Z
UID:584-1726165800-1726171200@gfwcwcom.org
SUMMARY:Club Meeting
DESCRIPTION:
URL:https://gfwcwcom.org/event/club-meeting/
LOCATION:“B” Avenue Community Center\, 754 "B" Avenue\, West Columbia\, SC
END:VEVENT
END:VCALENDAR